Workbook
Name EQ: '180 Day Options'!$H$15
Name EQ: '180 Day Promo - Expired'!$H$15
Name EQ: '360 Day Options'!$H$15
Name EQ: '360 Day Promo - Expired'!$H$15

Sheet Inputs
G5: *OUTSIDE OF PRINT RANGE*
G6: *DO NOT SHARE EXTERNALLY*
B8: DEALER INFORMATION
G9: Dealer Subsidy Options:
B10: Dealer Name | C10: Dealer Name
B11: Contact Name | C11: Contact Name | G11: Inputs:
B12: Contact Email | C12: Contact Email
G13: Subsidy % for Dealer to Provide: | K13: 0
B14: CUSTOMER INFORMATION
B16: Customer Name | C16: Customer Name
B17: Customer Address | C17: Customer Address | G17: Outputs:
B18: Customer City, State, Zip | C18: Customer City, State, Zip
B19: Customer Phone | C19: Customer Phone | G19: Dealer Subsidy Amount: | K19: =+$K$13*$C$25 -> 0
B20: Customer Email | C20: Customer Email
B22: EQUIPMENT INFORMATION
B24: Equipment Description | C24: Equipment Description
B25: Equipment Cost | C25: 30000
B30: Phone: 800-945-2644
B31: Fax: 855-636-9493
B32: financesupport@accountservicing.com

Sheet 180 Day Promo - Expired
B2: FINANCE QUOTE
B4: DEALER INFORMATION | E4: FINANCING OPTIONS FOR
B6: =+Inputs!C10 -> Dealer Name | E6: =+Inputs!C16 -> Customer Name
B7: =+Inputs!C11 -> Contact Name | E7: =+Inputs!C17 -> Customer Address
B8: =+Inputs!C12 -> Contact Email | E8: =+Inputs!C18 -> Customer City, State, Zip
E9: =+Inputs!C19 -> Customer Phone
E10: =+Inputs!C20 -> Customer Email
B12: EQUIPMENT DESCRIPTION | E12: EQUIPMENT COST
B14: =+Inputs!C24 -> Equipment Description | E14: =+Inputs!C25 -> 30000
B16: NO MONEY DOWN NO PAYMENTS FOR 180 DAYS
B20: PROGRAM | D20: RATE* | F20: ANNUAL PAYMENTS
B22: 3 ANNUAL PAYMENTS | D22: 0.0299 | F22: =+IF($E$14<7500,"$10K Min.",$E$14*0.3485) -> 10455
B25: ="Quote Date: "& TEXT(TODAY(),"MM/DD/YY") -> Quote Date: 10/01/26
B27: *Based on suppliers quoted price to you of items to be financed. The actual yield to GreatAmerica may vary.
B28: - Financing underwritten by GreatAmerica Financial Services | G28: - $10,000 minimum deal size
B29: - First annual payment due 180 days from signing | G29: - Pricing effective through 3/31/22
B30: - One-time origination fee will apply | G30: - Rates subject to change without notice
B31: - Applicable taxes to be added | G31: - Additional structures available upon request
B32: - All quotes are subject to credit review, documentation and verification
B37: Phone: 866-288-9957
B38: Fax: 855-636-9493
B39: smgcredit@greatamerica.com

Sheet 360 Day Promo - Expired
B2: FINANCE QUOTE
B4: DEALER INFORMATION | E4: FINANCING OPTIONS FOR
B6: =+Inputs!C10 -> Dealer Name | E6: =+Inputs!C16 -> Customer Name
B7: =+Inputs!C11 -> Contact Name | E7: =+Inputs!C17 -> Customer Address
B8: =+Inputs!C12 -> Contact Email | E8: =+Inputs!C18 -> Customer City, State, Zip
E9: =+Inputs!C19 -> Customer Phone
E10: =+Inputs!C20 -> Customer Email
B12: EQUIPMENT DESCRIPTION | E12: EQUIPMENT COST
B14: =+Inputs!C24 -> Equipment Description | E14: =+Inputs!C25 -> 30000
B16: ="10% DOWN - ("&TEXT($E$14*0.1,"$#,##0")&") FOLLOWED BY NO PAYMENTS FOR 360 DAYS" -> 10% DOWN - ($3,000) FOLLOWED BY NO PAYMENTS FOR 360 DAYS
B20: PROGRAM | D20: RATE* | F20: ANNUAL PAYMENTS
B22: 3 ANNUAL PAYMENTS | D22: 0.0299 | F22: =+IF($E$14<7500,"$7.5K Min.",$E$14*0.31837) -> 9551.1
B25: ="Quote Date: "& TEXT(TODAY(),"MM/DD/YY") -> Quote Date: 10/01/26
B27: *Based on suppliers quoted price to you of items to be financed. The actual yield to GreatAmerica may vary.
B28: - Financing underwritten by GreatAmerica Financial Services | G28: - $10,000 minimum deal size
B29: - Down payment due at signing, first annual payment due in 360 days | G29: ='180 Day Promo - Expired'!$G$29 -> - Pricing effective through 3/31/22
B30: - One-time origination fee will apply | G30: - Rates subject to change without notice
B31: - Applicable taxes to be added | G31: - Additional structures available upon request
B32: - All quotes are subject to credit review, documentation and verification
B37: Phone: 866-288-9957
B38: Fax: 855-636-9493
B39: smgcredit@greatamerica.com

Sheet 180 Day Options
B2: FINANCE QUOTE
B4: DEALER INFORMATION | E4: FINANCING OPTIONS FOR
B6: =+Inputs!C10 -> Dealer Name | E6: =+Inputs!C16 -> Customer Name
B7: =+Inputs!C11 -> Contact Name | E7: =+Inputs!C17 -> Customer Address
B8: =+Inputs!C12 -> Contact Email | E8: =+Inputs!C18 -> Customer City, State, Zip
E9: =+Inputs!C19 -> Customer Phone
E10: =+Inputs!C20 -> Customer Email
B12: EQUIPMENT DESCRIPTION | E12: EQUIPMENT COST
B14: =IF(Inputs!$C$24<>"",Inputs!$C$24,"") -> Equipment Description | E14: =+Inputs!C25 -> 30000
B16: ="NO MONEY DOWN FOLLOWED BY NO PAYMENTS FOR 180 DAYS" -> NO MONEY DOWN FOLLOWED BY NO PAYMENTS FOR 180 DAYS
B20: PROGRAM | D20: RATE | F20: ANNUAL PAYMENTS
B22: 6 ANNUAL PAYMENTS | D22: =IF(Rates!$C$4=1,"n/a",_xlfn.XLOOKUP(Inputs!K13, Rates!D33:D39,Rates!C33:C39)) -> 0.0875 | F22: =IF(Rates!$C$4=1,"n/a",IF($E$14<10000,"$10K Min.",$E$14*_xlfn.XLOOKUP(Inputs!K13, Rates!D33:D39,Rates!E33:E39))) -> 6422.975
B24: 5 ANNUAL PAYMENTS | D24: =IF(Rates!$C$4=1,"n/a",_xlfn.XLOOKUP(Inputs!K13, Rates!D25:D31,Rates!C25:C31)) -> 0.0875 | F24: =IF(Rates!$C$4=1,"n/a",IF($E$14<10000,"$10K Min.",$E$14*_xlfn.XLOOKUP(Inputs!K13, Rates!D25:D31,Rates!E25:E31))) -> 7404.5564
B26: 4 ANNUAL PAYMENTS | D26: =IF(Rates!$C$4=1,"n/a",_xlfn.XLOOKUP(Inputs!K13, Rates!D17:D23,Rates!C17:C23)) -> 0.0875 | F26: =IF(Rates!$C$4=1,"n/a",IF($E$14<10000,"$10K Min.",$E$14*_xlfn.XLOOKUP(Inputs!K13, Rates!D17:D23,Rates!E17:E23))) -> 8886.1215
B28: 3 ANNUAL PAYMENTS | D28: =IF(Rates!$C$4=1,"n/a",_xlfn.XLOOKUP(Inputs!K13, Rates!D9:D15,Rates!C9:C15)) -> 0.0875 | F28: =IF(Rates!$C$4=1,"n/a",IF($E$14<10000,"$10K Min.",$E$14*_xlfn.XLOOKUP(Inputs!K13, Rates!D9:D15,Rates!E9:E15))) -> 11367.82
B30: 3 ANNUAL PAYMENTS | D30: 0.0399 | F30: =+IF($E$14<10000,"$10K Min.",$E$14*0.3183) -> 9549
B32: ="Quote Date: "& TEXT(TODAY(),"MM/DD/YY") -> Quote Date: 10/01/26
B33: - Promotional finance rates are for new orders only and allow up to 10% | G33: - $10,000 minimum deal size
B34: of the order total to be labor/installation. If labor is more than 10% | G34: ="- Pricing effective through "&TEXT(Rates!C3,"mm/dd/yyyy") -> - Pricing effective through 12/31/2026
B35: of the order, the overage will be financed at standard rates. | G35: - Rates subject to change without notice
B36: - First annual payment due in 180 days | G36: - One-time origination fee will apply
B37: - Financing underwritten by GreatAmerica Financial Services | G37: - Applicable taxes to be added
B38: - All quotes are subject to credit review, documentation and verification
B39: =IF(Rates!$C$4=0,"","Quote Tool outside of effective pricing dates. Please contact GreatAmerica at the email below to request an update.")
B44: =+Inputs!B30 -> Phone: 800-945-2644
B45: Fax: 855-636-9493
B46: financesupport@accountservicing.com
B52: - Down payment due at signing, first annual payment due in 180 days

Sheet 360 Day Options
B2: FINANCE QUOTE
B4: DEALER INFORMATION | E4: FINANCING OPTIONS FOR
B6: =+Inputs!C10 -> Dealer Name | E6: =+Inputs!C16 -> Customer Name
B7: =+Inputs!C11 -> Contact Name | E7: =+Inputs!C17 -> Customer Address
B8: =+Inputs!C12 -> Contact Email | E8: =+Inputs!C18 -> Customer City, State, Zip
E9: =+Inputs!C19 -> Customer Phone
E10: =+Inputs!C20 -> Customer Email
B12: EQUIPMENT DESCRIPTION | E12: EQUIPMENT COST
B14: =IF(Inputs!$C$24<>"",Inputs!$C$24,"") -> Equipment Description | E14: =+Inputs!C25 -> 30000
B16: ="5% DOWN - ("&TEXT($E$14*0.05,"$#,##0")&") FOLLOWED BY NO PAYMENTS FOR 360 DAYS" -> 5% DOWN - ($1,500) FOLLOWED BY NO PAYMENTS FOR 360 DAYS
B20: PROGRAM | D20: RATE | F20: ANNUAL PAYMENTS
B22: 6 ANNUAL PAYMENTS | D22: =IF(Rates!$C$4=1,"n/a",_xlfn.XLOOKUP(Inputs!K13, Rates!J33:J39,Rates!I33:I39)) -> 0.0875 | F22: =IF(Rates!$C$4=1,"n/a",IF($E$14<10000,"$10K Min.",$E$14*_xlfn.XLOOKUP(Inputs!K13, Rates!J33:J39,Rates!K33:K39))) -> 6373.7698
B24: 5 ANNUAL PAYMENTS | D24: =IF(Rates!$C$4=1,"n/a",_xlfn.XLOOKUP(Inputs!K13, Rates!J25:J31,Rates!I25:I31)) -> 0.0875 | F24: =IF(Rates!$C$4=1,"n/a",IF($E$14<10000,"$10K Min.",$E$14*_xlfn.XLOOKUP(Inputs!K13, Rates!J25:J31, Rates!K25:K31))) -> 7347.5528
B26: 4 ANNUAL PAYMENTS | D26: =IF(Rates!$C$4=1,"n/a",_xlfn.XLOOKUP(Inputs!K13, Rates!J17:J23,Rates!I17:I23)) -> 0.0875 | F26: =IF(Rates!$C$4=1,"n/a",IF($E$14<10000,"$10K Min.",$E$14*_xlfn.XLOOKUP(Inputs!K13, Rates!J17:J23, Rates!K17:K23))) -> 8817.9291
B28: 3 ANNUAL PAYMENTS | D28: =IF(Rates!$C$4=1,"n/a",_xlfn.XLOOKUP(Inputs!K13, Rates!J9:J15,Rates!I9:I15)) -> 0.0875 | F28: =IF(Rates!$C$4=1,"n/a",IF($E$14<10000,"$10K Min.",$E$14*_xlfn.XLOOKUP(Inputs!K13, Rates!J9:J15,Rates!K9:K15))) -> 11280.672
B30: 3 ANNUAL PAYMENTS | D30: 0.0399 | F30: =+IF($E$14<10000,"$10K Min.",$E$14*0.3183) -> 9549
B32: ="Quote Date: "& TEXT(TODAY(),"MM/DD/YY") -> Quote Date: 10/01/26
B33: - Promotional finance rates are for new orders only and allow up to 10% | G33: - $10,000 minimum deal size
B34: of the order total to be labor/installation. If labor is more than 10% | G34: ="- Pricing effective through "&TEXT(Rates!C3,"mm/dd/yyyy") -> - Pricing effective through 12/31/2026
B35: of the order, the overage will be financed at standard rates. | G35: - Rates subject to change without notice
B36: - Financing underwritten by GreatAmerica Financial Services | G36: - One-time origination fee will apply
B37: - Down payment due at signing, first annual payment due in 360 days | G37: - Applicable taxes to be added
B38: - All quotes are subject to credit review, documentation and verification
B39: =IF(Rates!$C$4=0,"","Quote Tool outside of effective pricing dates. Please contact GreatAmerica at the email below to request an update.")
B44: =+Inputs!B30 -> Phone: 800-945-2644
B45: Fax: 855-636-9493
B46: financesupport@accountservicing.com

Sheet Application
U1: Program | V1: Term
U2: 180 Day Promo | V2: 29
B3: VENDOR INFORMATION | U3: 360 Day Promo | V3: 36
B4: Vendor Name | I4: Vendor Address | P4: Vendor Phone | U4: 4 Annuals | V4: 42
B5: =Inputs!$C$10 -> Dealer Name | U5: 5 Annuals | V5: 54
B6: Sales Rep Name | I6: Sales Rep Email | P6: Sales Rep Phone | U6: 6 Annuals | V6: 66
B7: =Inputs!$C$11 -> Contact Name | I7: =Inputs!$C$12 -> Contact Email
B8: CUSTOMER INFORMATION
B9: Full Legal Name of Business
B10: =Inputs!$C$16 -> Customer Name
B11: Billing Address | M11: City/State/Zip Code
B12: =Inputs!$C$17 -> Customer Address | M12: =Inputs!$C$18 -> Customer City, State, Zip
B13: Contact Name: | N13: Title
B15: Telephone No. | G15: Fax No | J15: Cell No. | M15: Email Address
J16: =Inputs!$C$19 -> Customer Phone | M16: =Inputs!$C$20 -> Customer Email
B17: Description of Business
B19: Prop | D19: Partner | F19: Corp | G19: LLC | H19: No. of Employees | J19: Year Est. | L19: Additional Notes
B21: FARM INFORMATION
B22: Gross Farm Sales | F22: Net Non-Farm Income | I22: Acres Owned | K22: Acres Rented | M22: County/Township | O22: Livestock Type | R22: Herd Size
B24: PERSONAL DATA (ON MAJOR STOCKHOLDERS, PARTNERS, OR PROPRIETORS)
B25: Name | H25: Home Address | L25: City | N25: State | O25: Zip Code | Q25: Social Security No.
B27: Name | H27: Home Address | L27: City | N27: State | O27: Zip Code | Q27: Social Security No.
B29: EQUIPMENT
B30: TYPE, MAKE, MODEL, NUMBER AND INCLUDED ACCESSORIES | O30: SERIAL NUMBER | R30: NEW/USED
B35: FINANCE TERMS
B36: PROGRAM: | D36: 180 Day Promo | G36: TERM IN MONTHS: | I36: =VLOOKUP($D$36,$U$2:$V$6,2,0) -> 29 | K36: EQUIPMENT COST: | N36: =Inputs!$C$25 -> 30000
C38: I authorize GreatAmerica (or its designee) to review my credit, confer with the references listed, confirm any information provided and obtain information from any credit reporting agency, all in connection with extending credit and reviewing and collecting on the resulting account.
C41: Signed X | O41: Date
B50: Email completed credit application to GreatAmerica at financesupport@accountservicing.com

Sheet Rates
B2: Ag Leader Quote Tool Rates/Calculations
B3: Kill Date: | C3: 46387
B4: Trigger: | C4: =IF(TODAY()>C3,1,0) -> 0
B7: 180 Days Deferred | H7: 360 Days Deferred
B8: Annual Payments | C8: Customer Rate | D8: Dealer Subsidy | E8: Factor | F8: Yield | H8: Annual Payments | I8: Customer Rate | J8: Dealer Subsidy | K8: Factor | L8: Yield
B9: 3 | C9: 0.0875 | D9: 0 | E9: 0.37892733 | F9: 0.0875 | H9: 3 | I9: 0.0875 | J9: 0 | K9: 0.37602241 | L9: 0.0875
B10: 3 | C10: 0.08049854 | D10: 0.01 | E10: 0.37514398 | F10: 0.0875 | H10: 3 | I10: 0.082016567 | J10: 0.01 | K10: 0.37206341 | L10: 0.0875 | N10: factor | O10: 0.1914577
B11: 3 | C11: 0.073447246 | D11: 0.02 | E11: 0.37135452 | F11: 0.0875 | H11: 3 | I11: 0.076488257 | J11: 0.02 | K11: 0.36810498 | L11: 0.0875 | N11: Check | O11: =+IRR(O13:O49)*12 -> #VALUE! | P11: =+IF(ROUND((O11-#REF!), 3)=0, "", O11-#REF!) -> #VALUE!
B12: 3 | C12: 0.066350723 | D12: 0.03 | E12: 0.36756506 | F12: 0.0875 | H12: 3 | I12: 0.070913246 | J12: 0.03 | K12: 0.36414653 | L12: 0.0875 | N12: subsidy | O12: 0.08
B13: 3 | C13: 0.059201946 | D13: 0.04 | E13: 0.36377237 | F13: 0.0875 | H13: 3 | I13: 0.065290589 | J13: 0.04 | K13: 0.36018809 | L13: 0.0875 | N13: 0 | O13: =+-(#REF!*(1-(O12+5%))) -> #REF! | P13: =+-(#REF!*(1-5%)) -> #REF!
B14: 3 | C14: 0.052011999 | D14: 0.05 | E14: 0.35998283 | F14: 0.0875 | H14: 3 | I14: 0.059619307 | J14: 0.05 | K14: 0.35622964 | L14: 0.0875 | N14: 2 | O14: 0 | P14: =+O14 -> 0
B15: 3 | C15: 0.044773975 | D15: 0.06 | E15: 0.35619327 | F15: 0.0875 | H15: 3 | I15: 0.053898386 | J15: 0.06 | K15: 0.35227118 | L15: 0.0875 | N15: 4 | O15: 0 | P15: =+O15 -> 0
N16: 9 | O16: 0 | P16: =+O16 -> 0
B17: 4 | C17: 0.0875 | D17: 0 | E17: 0.29620405 | F17: 0.0875 | H17: 4 | I17: 0.0875 | J17: 0 | K17: 0.29393097 | L17: 0.0875 | N17: 10 | O17: 0 | P17: =+O17 -> 0
B18: 4 | C18: 0.082158147 | D18: 0.01 | E18: 0.29324201 | F18: 0.0875 | H18: 4 | I18: 0.083047613 | J18: 0.01 | K18: 0.29083619 | L18: 0.0875 | N18: 12 | O18: =+#REF!*$O$10 -> #REF! | P18: =+O18 -> #REF!
B19: 4 | C19: 0.076782624 | D19: 0.02 | E19: 0.29027966 | F19: 0.0875 | H19: 4 | I19: 0.078560317 | J19: 0.02 | K19: 0.28774195 | L19: 0.0875 | N19: 14 | O19: 0 | P19: =+O19 -> 0
B20: 4 | C20: 0.071373578 | D20: 0.03 | E20: 0.28731743 | F20: 0.0875 | H20: 4 | I20: 0.074036689 | J20: 0.03 | K20: 0.2846477 | L20: 0.0875 | N20: 16 | O20: 0 | P20: =+O20 -> 0
B21: 4 | C21: 0.065930096 | D21: 0.04 | E21: 0.2843552 | F21: 0.0875 | H21: 4 | I21: 0.069475992 | J21: 0.04 | K21: 0.28155345 | L21: 0.0875 | N21: 18 | O21: 0 | P21: =+O21 -> 0
B22: 4 | C22: 0.060451463 | D22: 0.05 | E22: 0.28139297 | F22: 0.0875 | H22: 4 | I22: 0.06487746 | J22: 0.05 | K22: 0.2784592 | L22: 0.0875 | N22: 20 | O22: 0 | P22: =+O22 -> 0
B23: 4 | C23: 0.054936943 | D23: 0.06 | E23: 0.27843074 | F23: 0.0875 | H23: 4 | I23: 0.060240304 | J23: 0.06 | K23: 0.27536494 | L23: 0.0875 | N23: 22 | O23: 0 | P23: =+O23 -> 0
N24: 27 | O24: 0 | P24: =+O24 -> 0
B25: 5 | C25: 0.0875 | D25: 0 | E25: 0.24681855 | F25: 0.0875 | H25: 5 | I25: 0.0875 | J25: 0 | K25: 0.24491843 | L25: 0.0875 | N25: 28 | O25: 0 | P25: =+O25 -> 0
B26: 5 | C26: 0.083157147 | D26: 0.01 | E26: 0.24435036 | F26: 0.0875 | H26: 5 | I26: 0.083733354 | J26: 0.01 | K26: 0.24234568 | L26: 0.0875 | N26: 30 | O26: 0 | P26: =+O26 -> 0
B27: 5 | C27: 0.078787314 | D27: 0.02 | E27: 0.2418819 | F27: 0.0875 | H27: 5 | I27: 0.079938098 | J27: 0.02 | K27: 0.23976732 | L27: 0.0875 | N27: 32 | O27: 0 | P27: =+O27 -> 0
B28: 5 | C28: 0.074390716 | D28: 0.03 | E28: 0.23941356 | F28: 0.0875 | H28: 5 | I28: 0.076113173 | J28: 0.03 | K28: 0.23718897 | L28: 0.0875 | N28: 34 | O28: 0 | P28: =+O28 -> 0
B29: 5 | C29: 0.069966581 | D29: 0.04 | E29: 0.23694522 | F29: 0.0875 | H29: 5 | I29: 0.072257936 | J29: 0.04 | K29: 0.23461063 | L29: 0.0875 | N29: 36 | O29: =+#REF!*$O$10 -> #REF! | P29: =+O29 -> #REF!
B30: 5 | C30: 0.065514332 | D30: 0.05 | E30: 0.23447688 | F30: 0.0875 | H30: 5 | I30: 0.068371759 | J30: 0.05 | K30: 0.23203227 | L30: 0.0875 | N30: 38 | O30: 0 | P30: =+O30 -> 0
B31: 5 | C31: 0.061033373 | D31: 0.06 | E31: 0.23200853 | F31: 0.0875 | H31: 5 | I31: 0.064453994 | J31: 0.06 | K31: 0.22945392 | L31: 0.0875 | N31: 40 | O31: 0 | P31: =+O31 -> 0
N32: 45 | O32: 0 | P32: =+O32 -> 0
B33: 6 | C33: 0.0875 | D33: 0 | E33: 0.21409917 | F33: 0.0875 | H33: 6 | I33: 0.0875 | J33: 0 | K33: 0.21245899 | L33: 0.0875 | N33: 46 | O33: 0 | P33: =+O33 -> 0
B34: 6 | C34: 0.083822199 | D34: 0.01 | E34: 0.21195817 | F34: 0.0875 | H34: 6 | I34: 0.084221717 | J34: 0.01 | K34: 0.21022208 | L34: 0.0875 | N34: 48 | O34: =+#REF!*$O$10 -> #REF! | P34: =+O34 -> #REF!
B35: 6 | C35: 0.08012191 | D35: 0.02 | E35: 0.20981692 | F35: 0.0875 | H35: 6 | I35: 0.080919312 | J35: 0.02 | K35: 0.20798551 | L35: 0.0875 | N35: 50 | O35: 0 | P35: =+O35 -> 0
B36: 6 | C36: 0.076399309 | D36: 0.03 | E36: 0.20767577 | F36: 0.0875 | H36: 6 | I36: 0.077591799 | J36: 0.03 | K36: 0.20574893 | L36: 0.0875 | N36: 52 | O36: 0 | P36: =+O36 -> 0
B37: 6 | C37: 0.072653749 | D37: 0.04 | E37: 0.20553461 | F37: 0.0875 | H37: 6 | I37: 0.074238662 | J37: 0.04 | K37: 0.20351236 | L37: 0.0875 | N37: 54 | O37: 0 | P37: =+O37 -> 0
B38: 6 | C38: 0.068884745 | D38: 0.05 | E38: 0.20339345 | F38: 0.0875 | H38: 6 | I38: 0.070859366 | J38: 0.05 | K38: 0.20127578 | L38: 0.0875 | N38: 56 | O38: 0 | P38: =+O38 -> 0
B39: 6 | C39: 0.065091795 | D39: 0.06 | E39: 0.2012523 | F39: 0.0875 | H39: 6 | I39: 0.067453361 | J39: 0.06 | K39: 0.19903919 | L39: 0.0875 | N39: 58 | O39: 0 | P39: =+O39 -> 0
N40: 63 | O40: 0 | P40: =+O40 -> 0
N41: 64 | O41: 0 | P41: =+O41 -> 0
N42: 65 | O42: 0 | P42: =+O42 -> 0
N43: 66 | O43: 0 | P43: =+O43 -> 0
...
